BEGIN:VCALENDAR
VERSION:2.0
PRODID:-//ChamberMaster//Event Calendar 2.0//EN
METHOD:PUBLISH
X-PUBLISHED-TTL:P3D
REFRESH-INTERVAL:P3D
CALSCALE:GREGORIAN
BEGIN:VEVENT
DTSTART:20241026T160000Z
DTEND:20241026T213000Z
X-MICROSOFT-CDO-ALLDAYEVENT:FALSE
SUMMARY:2024 Harvest Festival Chamber Boo Bash on Main® & Trick or Treat Street
DESCRIPTION:Visit Historic Elizabeth Main Street on October 26 for our annual Trick or Treat Street and Boo Bash on Main  Harvest Festival.\n\n\n\nThis year features Trunk or Treat and NEW activities and ontests!\n\n\n\nThere will be vendor booths\, storefront businesses open\, lots of candy for trick or treaters\, and costume contests!\n\n\n\nVendors: Please indicate your first and second main items that you are selling or displaying (in the comments section).
X-ALT-DESC;FMTTYPE=text/html:<p>Visit&nbsp\;Historic Elizabeth Main Street&nbsp\;on October 26&nbsp\;for our annual Trick or Treat Street and Boo Bash on Main&reg\; Harvest Festival.<br />\n<br />\nThis year features Trunk or Treat and NEW activities and ontests!<br />\n<br />\nThere will be vendor booths\, storefront businesses open\,&nbsp\;lots of candy for trick or treaters\, and costume contests!<br />\n<br />\nVendors: Please indicate your first and second main items that you are selling or displaying (in the comments section).</p>\n
LOCATION:Historic Elizabeth Main Street 10:00 am - 3:30 pm
UID:e.2509.5282
SEQUENCE:3
DTSTAMP:20260423T204408Z
URL:http://business.elizabethchamber.org/events/details/2024-harvest-festival-chamber-boo-bash-on-main-trick-or-treat-street-5282
END:VEVENT

END:VCALENDAR
